BEGIN:VCALENDAR
VERSION:2.0
PRODID:-//Base Enterprise Centre - ECPv4.6.3//NONSGML v1.0//EN
CALSCALE:GREGORIAN
METHOD:PUBLISH
X-WR-CALNAME:Base Enterprise Centre
X-ORIGINAL-URL:http://baseenterprisecentre.ie
X-WR-CALDESC:Events for Base Enterprise Centre
BEGIN:VEVENT
DTSTART;VALUE=DATE:20171129
DTEND;VALUE=DATE:20171202
DTSTAMP:20171106T162430
CREATED:20171011T154458Z
LAST-MODIFIED:20171018T114915Z
UID:1982-1511913600-1512172799@baseenterprisecentre.ie
SUMMARY:Start Your Own Business
DESCRIPTION:\n				\n					\n				\n			\nThe course is aimed at people who are considering starting a business but are unsure where to begin. The objective of the three day programme is to answer the major questions people have about starting or running a small business – no matter how big or small. \n
URL:http://baseenterprisecentre.ie/event/start-your-own-business-3/
LOCATION:RIASC Centre\, Feltrim Road\, Swords\, Co.Dublin
CATEGORIES:enterprise
END:VEVENT
BEGIN:VEVENT
DTSTART;TZID=Europe/Dublin:20171129T083000
DTEND;TZID=Europe/Dublin:20171129T163000
DTSTAMP:20171106T162430
CREATED:20171023T143841Z
LAST-MODIFIED:20171023T143841Z
UID:2100-1511944200-1511973000@baseenterprisecentre.ie
SUMMARY:Twitter/LinkedIn
DESCRIPTION: \n  \nA two part course on Twitter and LinkedIn focusing on how to use these powerful social media tools to promote your company. \n
URL:http://baseenterprisecentre.ie/event/twitterlinkedin/
LOCATION:Local Enterprise Office. 1st Floor County Hall\, Swords.\, Co.Dublin\, Co.Dublin
CATEGORIES:enterprise
ORGANIZER;CN="local%20Enterprise%20Office":MAILTO:info@leo.fingal.ie
END:VEVENT
END:VCALENDAR