BEGIN:VCALENDAR
VERSION:2.0
PRODID:-//Base Enterprise Centre - ECPv4.6.3//NONSGML v1.0//EN
CALSCALE:GREGORIAN
METHOD:PUBLISH
X-WR-CALNAME:Base Enterprise Centre
X-ORIGINAL-URL:http://baseenterprisecentre.ie
X-WR-CALDESC:Events for Base Enterprise Centre
BEGIN:VEVENT
DTSTART;TZID=Europe/Dublin:20171122T083000
DTEND;TZID=Europe/Dublin:20171122T163000
DTSTAMP:20171106T162253
CREATED:20171023T142902Z
LAST-MODIFIED:20171023T142902Z
UID:2092-1511339400-1511368200@baseenterprisecentre.ie
SUMMARY:Taxation For Small Business
DESCRIPTION: \nTo develop an understanding of the legal taxation requirements for small business. Knowledge of Taxation issues and the ways in which to manage accounts and prepare tax accounts. The correct assessment forms required by Revenue and be guided through their completion. \n
URL:http://baseenterprisecentre.ie/event/taxation-small-business/
LOCATION:Local Enterprise Office. 1st Floor County Hall\, Swords.\, Co.Dublin
CATEGORIES:enterprise
ORGANIZER;CN="local%20Enterprise%20Office":MAILTO:info@leo.fingal.ie
END:VEVENT
END:VCALENDAR