BEGIN:VCALENDAR
VERSION:2.0
PRODID:-//Base Enterprise Centre - ECPv4.6.3//NONSGML v1.0//EN
CALSCALE:GREGORIAN
METHOD:PUBLISH
X-WR-CALNAME:Base Enterprise Centre
X-ORIGINAL-URL:http://baseenterprisecentre.ie
X-WR-CALDESC:Events for Base Enterprise Centre
BEGIN:VEVENT
DTSTART;VALUE=DATE:20171023
DTEND;VALUE=DATE:20171109
DTSTAMP:20171106T155201
CREATED:20171013T111208Z
LAST-MODIFIED:20171018T114052Z
UID:1998-1508716800-1510185599@baseenterprisecentre.ie
SUMMARY:Steps To Success
DESCRIPTION: \nBoost your mental health this Autumn with an amazing experience on our wonderful STEPS to success – Personal Development Course. Delivered by our highly experienced Life Coach & Tutor: Jennifer Cruise.\nThe course runs twice a week from 9:30 am – 1:30 pm for 3 weeks. The course is certified by QQI Level 3 (3N0565) as an option for anyone interested in gaining a qualification.\nThe cost is offered at the reduced rate of €175 for this course only. For further information or to book your place contact the team on info@baptec.ie or phone (01) 8293551\nPlaces are limited so hurry and book your place \n\nMonday 23rd Oct\n Wednesday 25th Oct\n Wednesday 1st Nov\n Friday 3rd Nov\n Monday 6th\n Wed 8th Nov \n
URL:http://baseenterprisecentre.ie/event/steps-to-success/
LOCATION:Unit C3\, Base Enterprise Centre\, Mulhuddart\, Dublin\, 15
CATEGORIES:BapTec
ORGANIZER;CN="BapTec":MAILTO:info@baptec.ie
END:VEVENT
BEGIN:VEVENT
DTSTART;VALUE=DATE:20171107
DTEND;VALUE=DATE:20171110
DTSTAMP:20171106T155201
CREATED:20171011T145220Z
LAST-MODIFIED:20171018T115103Z
UID:1961-1510012800-1510271999@baseenterprisecentre.ie
SUMMARY:Start Your Own Business
DESCRIPTION:\n				\n					\n				\n			\nThe course is aimed at people who are considering starting a business but are unsure where to begin. The objective of the three day programme is to answer the major questions people have about starting or running a small business – no matter how big or small. \n
URL:http://baseenterprisecentre.ie/event/start-your-own-business-2/
LOCATION:Stephenstown Ind Est\, Balbriggan\, Co. Dublin
CATEGORIES:enterprise
END:VEVENT
BEGIN:VEVENT
DTSTART;TZID=Europe/Dublin:20171108T093000
DTEND;TZID=Europe/Dublin:20171108T163000
DTSTAMP:20171106T155201
CREATED:20171023T142003Z
LAST-MODIFIED:20171023T142003Z
UID:2084-1510133400-1510158600@baseenterprisecentre.ie
SUMMARY:Facebook Begin
DESCRIPTION: \nThe aim of this programme is to provide those with a working knowledge of Facebook for business\, with the skills to explore the relevance and potential of Facebook for their particular business and take their Facebook page to the next level of usage. \n
URL:http://baseenterprisecentre.ie/event/facebook-begin/
LOCATION:Local Enterprise Office. 1st Floor County Hall\, Swords.\, Co.Dublin\, Dublin
ORGANIZER;CN="local%20Enterprise%20Office":MAILTO:info@leo.fingal.ie
END:VEVENT
END:VCALENDAR