BEGIN:VCALENDAR
VERSION:2.0
PRODID:-//Base Enterprise Centre - ECPv4.6.3//NONSGML v1.0//EN
CALSCALE:GREGORIAN
METHOD:PUBLISH
X-WR-CALNAME:Base Enterprise Centre
X-ORIGINAL-URL:http://baseenterprisecentre.ie
X-WR-CALDESC:Events for Base Enterprise Centre
BEGIN:VEVENT
DTSTART;VALUE=DATE:20171018
DTEND;VALUE=DATE:20171021
DTSTAMP:20171106T163052
CREATED:20171011T143813Z
LAST-MODIFIED:20171018T115026Z
UID:1947-1508284800-1508543999@baseenterprisecentre.ie
SUMMARY:Start Your Own Business
DESCRIPTION:\n				\n					\n				\n			\nThe course is aimed at people who are considering starting a business but are unsure where to begin. The objective of the three day programme is to answer the major questions people have about starting or running a small business – no matter how big or small. \n
URL:http://baseenterprisecentre.ie/event/start-your-own-business/
LOCATION:Dillon House\, Coolmine Business Park\, Dublin\, 15
CATEGORIES:enterprise
END:VEVENT
END:VCALENDAR