BEGIN:VCALENDAR
VERSION:2.0
PRODID:-//Base Enterprise Centre - ECPv4.6.3//NONSGML v1.0//EN
CALSCALE:GREGORIAN
METHOD:PUBLISH
X-WR-CALNAME:Base Enterprise Centre
X-ORIGINAL-URL:http://baseenterprisecentre.ie
X-WR-CALDESC:Events for Base Enterprise Centre
BEGIN:VEVENT
DTSTART;VALUE=DATE:20171115
DTEND;VALUE=DATE:20171116
DTSTAMP:20171106T155841
CREATED:20171011T150027Z
LAST-MODIFIED:20171011T150027Z
UID:1967-1510704000-1510790399@baseenterprisecentre.ie
SUMMARY:Women In Business
DESCRIPTION:\n					\n						\n							\n								\n								\n							\n						\n						\n					\n						\n							\n								\n								\n							\n						\n						\n					\n				\n
URL:http://baseenterprisecentre.ie/event/women-in-business/
LOCATION:Stephenstown Ind Est\, Balbriggan\, Co. Dublin
CATEGORIES:enterprise
END:VEVENT
END:VCALENDAR