BEGIN:VCALENDAR
VERSION:2.0
PRODID:-//Base Enterprise Centre - ECPv4.6.3//NONSGML v1.0//EN
CALSCALE:GREGORIAN
METHOD:PUBLISH
X-WR-CALNAME:Base Enterprise Centre
X-ORIGINAL-URL:http://baseenterprisecentre.ie
X-WR-CALDESC:Events for Base Enterprise Centre
BEGIN:VEVENT
DTSTART;VALUE=DATE:20171201
DTEND;VALUE=DATE:20171202
DTSTAMP:20171106T160356
CREATED:20171012T114247Z
LAST-MODIFIED:20171012T114247Z
UID:1987-1512086400-1512172799@baseenterprisecentre.ie
SUMMARY:VAT
DESCRIPTION:\n					\n						\n							\n								\n								\n							\n						\n						\n					\n						\n							\n								\n								\n							\n						\n						\n					\n				\n
URL:http://baseenterprisecentre.ie/event/vat/
LOCATION:Dillon House\, Coolmine Business Park\, Dublin\, 15
CATEGORIES:enterprise
END:VEVENT
END:VCALENDAR