BEGIN:VCALENDAR
VERSION:2.0
PRODID:-//Base Enterprise Centre - ECPv4.6.3//NONSGML v1.0//EN
CALSCALE:GREGORIAN
METHOD:PUBLISH
X-WR-CALNAME:Base Enterprise Centre
X-ORIGINAL-URL:http://baseenterprisecentre.ie
X-WR-CALDESC:Events for Base Enterprise Centre
BEGIN:VEVENT
DTSTART;TZID=Europe/Dublin:20171024T093000
DTEND;TZID=Europe/Dublin:20171024T163000
DTSTAMP:20171106T160734
CREATED:20171023T121817Z
LAST-MODIFIED:20171023T140658Z
UID:2072-1508837400-1508862600@baseenterprisecentre.ie
SUMMARY:Twitter / LinkedIn
DESCRIPTION:\nA two part course on Twitter and LinkedIn focusing on how to use these powerful social media tools to promote your company. \n
URL:http://baseenterprisecentre.ie/event/twitter-linkedin/
LOCATION:Local Enterprise Office. 1st Floor County Hall\, Swords.\, Co.Dublin
ORGANIZER;CN="local%20Enterprise%20Office":MAILTO:info@leo.fingal.ie
END:VEVENT
END:VCALENDAR