BEGIN:VCALENDAR
VERSION:2.0
PRODID:-//Base Enterprise Centre - ECPv4.6.3//NONSGML v1.0//EN
CALSCALE:GREGORIAN
METHOD:PUBLISH
X-WR-CALNAME:Base Enterprise Centre
X-ORIGINAL-URL:http://baseenterprisecentre.ie
X-WR-CALDESC:Events for Base Enterprise Centre
BEGIN:VEVENT
DTSTART;TZID=Europe/Dublin:20171128T083000
DTEND;TZID=Europe/Dublin:20171128T163000
DTSTAMP:20171106T160142
CREATED:20171023T143653Z
LAST-MODIFIED:20171023T143653Z
UID:2098-1511857800-1511886600@baseenterprisecentre.ie
SUMMARY:Search Engine Optomisation
DESCRIPTION: \nThis workshop will introduce you to the key skills needed to conduct Search Engine Optimisation (SEO). SEO is a key part of any online marketing strategy. \n
URL:http://baseenterprisecentre.ie/event/search-engine-optomisation/
LOCATION:Local Enterprise Office. 1st Floor County Hall\, Swords.\, Co.Dublin
CATEGORIES:enterprise
ORGANIZER;CN="local%20Enterprise%20Office":MAILTO:info@leo.fingal.ie
END:VEVENT
END:VCALENDAR